BEGIN:VCALENDAR
VERSION:2.0
PRODID:-//spaziomrf.it - ECPv4.4.5//NONSGML v1.0//EN
CALSCALE:GREGORIAN
METHOD:PUBLISH
X-WR-CALNAME:spaziomrf.it
X-ORIGINAL-URL:https://spaziomrf.it
X-WR-CALDESC:Events for spaziomrf.it
BEGIN:VEVENT
DTSTART;TZID=Europe/Rome:20180517T080000
DTEND;TZID=Europe/Rome:20180517T170000
DTSTAMP:20260420T041532
CREATED:20180410T105704Z
LAST-MODIFIED:20180517T105942Z
UID:874-1526544000-1526576400@spaziomrf.it
SUMMARY:VEGGIE PLANET - 21-22 APRILE 2018
DESCRIPTION:\n\nDopo il grande successo di Roma\, Veggie Planet arriva per la prima volta a Torino per presentare il suo mondo fatto di prodotti 100% vegetali. Nei due giorni dell’evento potrete assaggiare specialità culinarie preparate dai migliori cuochi internazionali e provare tutti i nuovi prodotti per una cucina vegetale.\n\nSarà inoltre possibile trovare anche tantissimi capi di abbigliamento\, accessori e cosmetici naturali ed equo-solidali e molte altre interessanti novità locali e a chilometro zero.\n\nL’appuntamento con il Veggie Planet Torino è per il 21 e il 22 aprile 2018 allo spazio MRF.
URL:https://spaziomrf.it/evento/veggie-planet-21-22-aprile-2018/
END:VEVENT
END:VCALENDAR