BEGIN:VCALENDAR
VERSION:2.0
PRODID:-//spaziomrf.it - ECPv4.4.5//NONSGML v1.0//EN
CALSCALE:GREGORIAN
METHOD:PUBLISH
X-WR-CALNAME:spaziomrf.it
X-ORIGINAL-URL:https://spaziomrf.it
X-WR-CALDESC:Events for spaziomrf.it
BEGIN:VEVENT
DTSTART;TZID=Europe/Rome:20170517T113000
DTEND;TZID=Europe/Rome:20170519T220000
DTSTAMP:20260420T040812
CREATED:20170515T154816Z
LAST-MODIFIED:20170607T082050Z
UID:711-1495020600-1495231200@spaziomrf.it
SUMMARY:“OFFICINE della SALUTE” Luoghi senza confini
DESCRIPTION:“OFFICINE della SALUTE” è il titolo dell’evento organizzato dall’Asl “Città di Torino” in\ncollaborazione con la Circoscrizione 2\, le cooperative sociali operanti nell’ambito del Dipartimento di\nSalute Mentale (DSM)\, il Parco Arte Vivente (PAV) e associazioni di famigliari e utenti.\nLa manifestazione sarà ricca di eventi formativi (convegni\, workshop\, conferenze\, dibattiti\,..)\,\nmomenti informativi e di ascolto rivolti alla cittadinanza\, performance teatrali\, musicali\, artistiche per\n“avvicinare” i servizi alla comunità locale\, promuovendo il riconoscimento del concetto di salute\nmentale secondo l’approccio “ecologico sociale”.\nTre giornate a ingresso gratuito\, dal 17 al 19 maggio 2017\, per la manifestazione “Officine\ndella Salute”\, con i “Progetti di Cura ad Arte” si terrà a Torino\, nello Spazio MRF\, in corso Settembrini\n164\, ex area industriale Fiat Mirafiori.
URL:https://spaziomrf.it/evento/officine-della-salute-luoghi-senza-confini/
LOCATION:Corso Settembrini 164\, Torino
CATEGORIES:MRF Eventi
ATTACH;FMTTYPE=image/jpeg:https://spaziomrf.it/wp-content/uploads/2017/05/Cattura.jpg
END:VEVENT
END:VCALENDAR