BEGIN:VCALENDAR
VERSION:2.0
PRODID:-//spaziomrf.it - ECPv4.4.5//NONSGML v1.0//EN
CALSCALE:GREGORIAN
METHOD:PUBLISH
X-WR-CALNAME:spaziomrf.it
X-ORIGINAL-URL:https://spaziomrf.it
X-WR-CALDESC:Events for spaziomrf.it
BEGIN:VEVENT
DTSTART;VALUE=DATE:20170906
DTEND;VALUE=DATE:20170909
DTSTAMP:20260420T041044
CREATED:20170728T080107Z
LAST-MODIFIED:20170728T080655Z
UID:845-1504656000-1505001599@spaziomrf.it
SUMMARY:Festa Fiom Torino 2017
DESCRIPTION:Torna allo Spazio MRF la Festa Fiom Torino 2017: undicesima edizione.
URL:https://spaziomrf.it/evento/festa-fiom-torino-2017/
LOCATION:Corso Settembrini 164\, Torino
CATEGORIES:MRF Eventi
ATTACH;FMTTYPE=image/png:https://spaziomrf.it/wp-content/uploads/2017/07/festafiom2017-597095fd77926.png
END:VEVENT
END:VCALENDAR