BEGIN:VCALENDAR
VERSION:2.0
PRODID:-//spaziomrf.it - ECPv4.4.5//NONSGML v1.0//EN
CALSCALE:GREGORIAN
METHOD:PUBLISH
X-WR-CALNAME:spaziomrf.it
X-ORIGINAL-URL:https://spaziomrf.it
X-WR-CALDESC:Events for spaziomrf.it
BEGIN:VEVENT
DTSTART;TZID=Europe/Rome:20170525T170000
DTEND;TZID=Europe/Rome:20170525T183000
DTSTAMP:20260422T084534
CREATED:20170519T091559Z
LAST-MODIFIED:20170607T081749Z
UID:787-1495731600-1495737000@spaziomrf.it
SUMMARY:A Sud. Abitare la periferia di Mirafiori\, oggi e domani
DESCRIPTION:\n\n\n\n\n \n\nQuale futuro per le periferie? Espressione del modello fordista prima e simbolo dell’abitare in periferia oggi\, Mirafiori è da anni al centro di progettualità diverse che provano a disegnarne una nuova identità. L’incontro è l’occasione per capire quali scenari si prospettano per questa parte di città.\n\n\n\nCosa significa oggi abitare la periferia? Quali problematiche e quali scenari di sviluppo si prospettano per queste parti di città?\n\n\nObiettivo dell’incontro è quello di provare a osservare il quartiere di Mirafiori\, oggi palcoscenico di un’effervescenza progettuale che fa sì che si prospettino scenari molto diversi\, che provano a riscriverne un diverso racconto\, una nuova identità.\n\n\n\nInformazioni\nRelatori:\nBruno Manghi\, Fondazione di Comunità di Mirafiori\nIng. Francesco Terranova\, TNE\nArch. Francesca De Filippi\, DAD\, Politecnico di Torino\nStefano Di Polito\, sceneggiatore e regista di Mirafiori Lunapark\nArch. Cipriano\, Officine Multiplo\nChiara Lucchini\, Urban Center\,\nElena Fabris\, associazione Miravolante\nModera: arch. Ianira Vassallo\n 
URL:https://spaziomrf.it/evento/a-sud-abitare-la-periferia-di-mirafiori-oggi-e-domani/
LOCATION:Corso Settembrini 164\, Torino
CATEGORIES:MRF Eventi
ATTACH;FMTTYPE=image/png:https://spaziomrf.it/wp-content/uploads/2017/05/kgh.png
END:VEVENT
END:VCALENDAR